BEGIN:VCALENDAR
VERSION:2.0
METHOD:PUBLISH
PRODID:-//Telerik Inc.//Sitefinity CMS 14.3//EN
BEGIN:VTIMEZONE
TZID:UTC
BEGIN:STANDARD
DTSTART;VALUE=DATE:20250101
TZNAME:UTC
TZOFFSETFROM:+0000
TZOFFSETTO:+0000
END:STANDARD
END:VTIMEZONE
BEGIN:VEVENT
DESCRIPTION:The Madison Area YMCA and the New York Blood Center are hosting
  a Blood Drive at the Y's Family Center on Friday\, May 8\, from 1:30-6PM.
 &nbsp\;There remains an urgent need for blood donations. Walk-ins are welc
 ome\, but appointments are encouraged.  All visitors and guests must prese
 nt a valid state/government-issued photo ID to enter the facility.Click he
 re to schedule an appointment and save lives through blood donation.&nbsp\
 ;
DTEND:20260508T180000Z
DTSTAMP:20260424T140248Z
DTSTART:20260508T133000Z
LOCATION:
SEQUENCE:0
SUMMARY:Blood Drive
UID:RFCALITEM639126361680235970
X-ALT-DESC;FMTTYPE=text/html:<p>The Madison Area YMCA and the New York Bloo
 d Center are hosting a Blood Drive at the Y's Family Center on Friday\, Ma
 y 8\, from 1:30-6PM.&nbsp\;</p><p>There remains an urgent need for blood d
 onations. Walk-ins are welcome\, but appointments are encouraged.  All vis
 itors and guests must present a valid state/government-issued photo ID to 
 enter the facility.<br /></p><p>Click <a href="https://donate.nybc.org/don
 or/schedules/drive_schedule/330558">here</a> to schedule an appointment an
 d save lives through blood donation.&nbsp\;</p>
END:VEVENT
END:VCALENDAR
